BEGIN:VCALENDAR
VERSION:2.0
PRODID:-//www.arcnbc.org//NONSGML kigkonsult.se iCalcreator 2.30.10//
CALSCALE:GREGORIAN
METHOD:PUBLISH
UID:7c0810d8-0507-4339-a684-f3107bfa6111
X-WR-CALDESC:
X-WR-RELCALID:002d29cfe1fcd932e92eb965b575f916
X-WR-TIMEZONE:America/New_York
BEGIN:VTIMEZONE
TZID:America/New_York
BEGIN:STANDARD
TZNAME:EST
DTSTART:20161106T020000
TZOFFSETFROM:-0400
TZOFFSETTO:-0500
RDATE:20171105T020000
RDATE:20181104T020000
END:STANDARD
BEGIN:DAYLIGHT
TZNAME:EDT
DTSTART:20170312T020000
TZOFFSETFROM:-0500
TZOFFSETTO:-0400
RDATE:20180311T020000
END:DAYLIGHT
END:VTIMEZONE
BEGIN:VEVENT
UID:be087266-4728-4d09-bb97-7209287e5f39
DTSTAMP:20260423T165404Z
DESCRIPTION:
DTSTART;TZID=America/New_York:20170613T090000
DTEND;TZID=America/New_York:20170613T150000
LOCATION:New Bedford Office
SUMMARY:First Aid/CPR
END:VEVENT
END:VCALENDAR
