BEGIN:VCALENDAR
VERSION:2.0
PRODID:-//www.arcnbc.org//NONSGML kigkonsult.se iCalcreator 2.30.10//
CALSCALE:GREGORIAN
METHOD:PUBLISH
UID:59219472-3f12-4a71-9412-0a94a156c214
X-WR-CALDESC:
X-WR-RELCALID:a6bcf1e77865480c8074b73c35a7cd86
X-WR-TIMEZONE:America/New_York
BEGIN:VTIMEZONE
TZID:America/New_York
BEGIN:STANDARD
TZNAME:EST
DTSTART:20161106T020000
TZOFFSETFROM:-0400
TZOFFSETTO:-0500
RDATE:20171105T020000
RDATE:20181104T020000
END:STANDARD
BEGIN:DAYLIGHT
TZNAME:EDT
DTSTART:20170312T020000
TZOFFSETFROM:-0500
TZOFFSETTO:-0400
RDATE:20180311T020000
END:DAYLIGHT
END:VTIMEZONE
BEGIN:VEVENT
UID:d134923d-17aa-455a-9dee-c8bb7db32e53
DTSTAMP:20260423T165921Z
DESCRIPTION:
DTSTART;TZID=America/New_York:20170615T180000
DTEND;TZID=America/New_York:20170615T203000
LOCATION:PACC  175 School St. Taunton
SUMMARY:Ted & Fran Annual Cookout
END:VEVENT
END:VCALENDAR
