BEGIN:VCALENDAR
VERSION:2.0
PRODID:-//www.arcnbc.org//NONSGML kigkonsult.se iCalcreator 2.30.10//
CALSCALE:GREGORIAN
METHOD:PUBLISH
UID:0646ef30-2d08-4e04-991c-47e10dbf6032
X-WR-CALDESC:
X-WR-RELCALID:2ad8bae13d1703b284923d93eabfabe3
X-WR-TIMEZONE:America/New_York
BEGIN:VTIMEZONE
TZID:America/New_York
BEGIN:STANDARD
TZNAME:EST
DTSTART:20161106T020000
TZOFFSETFROM:-0400
TZOFFSETTO:-0500
RDATE:20171105T020000
RDATE:20181104T020000
END:STANDARD
BEGIN:DAYLIGHT
TZNAME:EDT
DTSTART:20170312T020000
TZOFFSETFROM:-0500
TZOFFSETTO:-0400
RDATE:20180311T020000
END:DAYLIGHT
END:VTIMEZONE
BEGIN:VEVENT
UID:13664694-471a-471d-87be-3f68cb0796df
DTSTAMP:20260423T165346Z
DESCRIPTION:
DTSTART;TZID=America/New_York:20170616T190000
DTEND;TZID=America/New_York:20170616T210000
LOCATION:YMCA Attleboro- Pleasant St. Branch
SUMMARY:GO Night
END:VEVENT
END:VCALENDAR
