BEGIN:VCALENDAR
VERSION:2.0
PRODID:-//www.arcnbc.org//NONSGML kigkonsult.se iCalcreator 2.30.10//
CALSCALE:GREGORIAN
METHOD:PUBLISH
UID:2e85267d-f124-4f3c-9a21-5022e0019c41
X-WR-CALDESC:
X-WR-RELCALID:442daeae89e8384ae45349cef8e4fe1e
X-WR-TIMEZONE:America/New_York
BEGIN:VTIMEZONE
TZID:America/New_York
BEGIN:STANDARD
TZNAME:EST
DTSTART:20161106T020000
TZOFFSETFROM:-0400
TZOFFSETTO:-0500
RDATE:20171105T020000
RDATE:20181104T020000
END:STANDARD
BEGIN:DAYLIGHT
TZNAME:EDT
DTSTART:20170312T020000
TZOFFSETFROM:-0500
TZOFFSETTO:-0400
RDATE:20180311T020000
END:DAYLIGHT
END:VTIMEZONE
BEGIN:VEVENT
UID:339a283e-2ce0-4824-bec8-6447dd402220
DTSTAMP:20260423T165551Z
DESCRIPTION:
DTSTART;TZID=America/New_York:20170617T090000
DTEND;TZID=America/New_York:20170617T180000
LOCATION:Arc Attleboro
SUMMARY:Lupa Zoo
END:VEVENT
END:VCALENDAR
