BEGIN:VCALENDAR
VERSION:2.0
PRODID:-//www.arcnbc.org//NONSGML kigkonsult.se iCalcreator 2.30.10//
CALSCALE:GREGORIAN
METHOD:PUBLISH
UID:c7b28727-c0b2-4345-8bd5-1ff535f37f15
X-WR-CALDESC:New Employee Orientation
X-WR-RELCALID:5f70e964ae3c093aa537b7fdfbe02c5c
X-WR-TIMEZONE:America/New_York
BEGIN:VTIMEZONE
TZID:America/New_York
BEGIN:STANDARD
TZNAME:EST
DTSTART:20161106T020000
TZOFFSETFROM:-0400
TZOFFSETTO:-0500
RDATE:20171105T020000
RDATE:20181104T020000
END:STANDARD
BEGIN:DAYLIGHT
TZNAME:EDT
DTSTART:20170312T020000
TZOFFSETFROM:-0500
TZOFFSETTO:-0400
RDATE:20180311T020000
END:DAYLIGHT
END:VTIMEZONE
BEGIN:VEVENT
UID:e490093d-a629-4d12-a071-f922a08a2f24
DTSTAMP:20260423T165346Z
DESCRIPTION:New Employee Orientation
DTSTART;TZID=America/New_York:20170619T100000
DTEND;TZID=America/New_York:20170619T160000
LOCATION:141 Park Street
SUMMARY:Orientation
END:VEVENT
END:VCALENDAR
