BEGIN:VCALENDAR
VERSION:2.0
PRODID:-//www.arcnbc.org//NONSGML kigkonsult.se iCalcreator 2.30.10//
CALSCALE:GREGORIAN
METHOD:PUBLISH
UID:4f3f40f8-8fb7-4470-a6f2-f5342cad8878
X-WR-CALDESC:
X-WR-RELCALID:7824ffc13b7e3094e637b88040502f25
X-WR-TIMEZONE:America/New_York
BEGIN:VTIMEZONE
TZID:America/New_York
BEGIN:STANDARD
TZNAME:EST
DTSTART:20161106T020000
TZOFFSETFROM:-0400
TZOFFSETTO:-0500
RDATE:20171105T020000
RDATE:20181104T020000
END:STANDARD
BEGIN:DAYLIGHT
TZNAME:EDT
DTSTART:20170312T020000
TZOFFSETFROM:-0500
TZOFFSETTO:-0400
RDATE:20180311T020000
END:DAYLIGHT
END:VTIMEZONE
BEGIN:VEVENT
UID:50efc4b8-b235-4d1f-8fb4-03d4b3e70c26
DTSTAMP:20260423T165807Z
DESCRIPTION:
DTSTART;TZID=America/New_York:20170620T180000
DTEND;TZID=America/New_York:20170620T200000
LOCATION:Finberg Field Attleboro
SUMMARY:Arc Softball
END:VEVENT
END:VCALENDAR
