BEGIN:VCALENDAR
VERSION:2.0
PRODID:-//www.arcnbc.org//NONSGML kigkonsult.se iCalcreator 2.30.10//
CALSCALE:GREGORIAN
METHOD:PUBLISH
UID:466c7c86-3d3b-4fca-bfa4-13d70d883bb9
X-WR-CALDESC:
X-WR-RELCALID:f6b9c0e8b3680fe78c00edd0a6832afe
X-WR-TIMEZONE:America/New_York
BEGIN:VTIMEZONE
TZID:America/New_York
BEGIN:STANDARD
TZNAME:EST
DTSTART:20161106T020000
TZOFFSETFROM:-0400
TZOFFSETTO:-0500
RDATE:20171105T020000
RDATE:20181104T020000
END:STANDARD
BEGIN:DAYLIGHT
TZNAME:EDT
DTSTART:20170312T020000
TZOFFSETFROM:-0500
TZOFFSETTO:-0400
RDATE:20180311T020000
END:DAYLIGHT
END:VTIMEZONE
BEGIN:VEVENT
UID:ca53e84e-3e66-4fae-87fc-5b88a661fc67
DTSTAMP:20260423T165250Z
DESCRIPTION:
DTSTART;TZID=America/New_York:20170622T163000
DTEND;TZID=America/New_York:20170622T230000
LOCATION:Arc Attleboro
SUMMARY:Cape Cod Baseball Game
END:VEVENT
END:VCALENDAR
