BEGIN:VCALENDAR
VERSION:2.0
PRODID:-//www.arcnbc.org//NONSGML kigkonsult.se iCalcreator 2.30.10//
CALSCALE:GREGORIAN
METHOD:PUBLISH
UID:4291fbf4-6bcf-41dd-b480-e9efbb26215e
X-WR-CALDESC:
X-WR-RELCALID:f67e7986edbae6c9da163f137d2eb89e
X-WR-TIMEZONE:America/New_York
BEGIN:VTIMEZONE
TZID:America/New_York
BEGIN:STANDARD
TZNAME:EST
DTSTART:20161106T020000
TZOFFSETFROM:-0400
TZOFFSETTO:-0500
RDATE:20171105T020000
RDATE:20181104T020000
END:STANDARD
BEGIN:DAYLIGHT
TZNAME:EDT
DTSTART:20170312T020000
TZOFFSETFROM:-0500
TZOFFSETTO:-0400
RDATE:20180311T020000
END:DAYLIGHT
END:VTIMEZONE
BEGIN:VEVENT
UID:95c94837-8dc7-48be-9c9e-0eccfc454f2a
DTSTAMP:20260423T165519Z
DESCRIPTION:
DTSTART;TZID=America/New_York:20170623T173000
DTEND;TZID=America/New_York:20170623T210000
LOCATION:Cinema Pub- Rte.1 N. Attleboro
SUMMARY:Dinner & Movie
END:VEVENT
END:VCALENDAR
