BEGIN:VCALENDAR
VERSION:2.0
PRODID:-//www.arcnbc.org//NONSGML kigkonsult.se iCalcreator 2.30.10//
CALSCALE:GREGORIAN
METHOD:PUBLISH
UID:8aee9108-3e13-40ab-bc48-57359cb62c73
X-WR-CALDESC:
X-WR-RELCALID:08b62d71b269101eaf181728896d11e6
X-WR-TIMEZONE:America/New_York
BEGIN:VTIMEZONE
TZID:America/New_York
BEGIN:STANDARD
TZNAME:EST
DTSTART:20161106T020000
TZOFFSETFROM:-0400
TZOFFSETTO:-0500
RDATE:20171105T020000
RDATE:20181104T020000
END:STANDARD
BEGIN:DAYLIGHT
TZNAME:EDT
DTSTART:20170312T020000
TZOFFSETFROM:-0500
TZOFFSETTO:-0400
RDATE:20180311T020000
END:DAYLIGHT
END:VTIMEZONE
BEGIN:VEVENT
UID:01bc6c16-22fa-4aec-aca2-c084c64b5a7d
DTSTAMP:20260423T170213Z
DESCRIPTION:
DTSTART;TZID=America/New_York:20170627T150000
DTEND;TZID=America/New_York:20170627T170000
LOCATION:TARC
SUMMARY:Life Enrichment Skills
END:VEVENT
END:VCALENDAR
