BEGIN:VCALENDAR
VERSION:2.0
PRODID:-//www.arcnbc.org//NONSGML kigkonsult.se iCalcreator 2.30.10//
CALSCALE:GREGORIAN
METHOD:PUBLISH
UID:3ca63000-7c83-43e2-8ee3-f25d24b68a93
X-WR-CALDESC:
X-WR-RELCALID:69a018d2aa6447399eed1259beb7d786
X-WR-TIMEZONE:America/New_York
BEGIN:VTIMEZONE
TZID:America/New_York
BEGIN:STANDARD
TZNAME:EST
DTSTART:20161106T020000
TZOFFSETFROM:-0400
TZOFFSETTO:-0500
RDATE:20171105T020000
RDATE:20181104T020000
END:STANDARD
BEGIN:DAYLIGHT
TZNAME:EDT
DTSTART:20170312T020000
TZOFFSETFROM:-0500
TZOFFSETTO:-0400
RDATE:20180311T020000
END:DAYLIGHT
END:VTIMEZONE
BEGIN:VEVENT
UID:d033e0ac-86a3-4224-8408-be73fafac58d
DTSTAMP:20260423T165510Z
DESCRIPTION:
DTSTART;TZID=America/New_York:20170629T163000
DTEND;TZID=America/New_York:20170629T190000
LOCATION:TARC
SUMMARY:Tea Social
END:VEVENT
END:VCALENDAR
