BEGIN:VCALENDAR
VERSION:2.0
PRODID:-//www.arcnbc.org//NONSGML kigkonsult.se iCalcreator 2.30.10//
CALSCALE:GREGORIAN
METHOD:PUBLISH
UID:6c16c42e-e170-4aab-ac51-054858422477
X-WR-CALDESC:
X-WR-RELCALID:53e2bbd965f2abe2c9b9c6868e615e45
X-WR-TIMEZONE:America/New_York
BEGIN:VTIMEZONE
TZID:America/New_York
BEGIN:STANDARD
TZNAME:EST
DTSTART:20161106T020000
TZOFFSETFROM:-0400
TZOFFSETTO:-0500
RDATE:20171105T020000
RDATE:20181104T020000
END:STANDARD
BEGIN:DAYLIGHT
TZNAME:EDT
DTSTART:20170312T020000
TZOFFSETFROM:-0500
TZOFFSETTO:-0400
RDATE:20180311T020000
END:DAYLIGHT
END:VTIMEZONE
BEGIN:VEVENT
UID:17afebc1-7d31-41b8-a990-846bf32dfcac
DTSTAMP:20260423T165240Z
DESCRIPTION:
DTSTART;TZID=America/New_York:20170710T160000
DTEND;TZID=America/New_York:20170710T210000
LOCATION:Arc Attleboro
SUMMARY:Dave & Busters
END:VEVENT
END:VCALENDAR
