BEGIN:VCALENDAR
VERSION:2.0
PRODID:-//www.arcnbc.org//NONSGML kigkonsult.se iCalcreator 2.30.10//
CALSCALE:GREGORIAN
METHOD:PUBLISH
UID:57534438-bdd6-4246-9512-300c53ccb282
X-WR-CALDESC:
X-WR-RELCALID:01f426e93e7fc3cb67b5189374687537
X-WR-TIMEZONE:America/New_York
BEGIN:VTIMEZONE
TZID:America/New_York
BEGIN:STANDARD
TZNAME:EST
DTSTART:20161106T020000
TZOFFSETFROM:-0400
TZOFFSETTO:-0500
RDATE:20171105T020000
RDATE:20181104T020000
END:STANDARD
BEGIN:DAYLIGHT
TZNAME:EDT
DTSTART:20170312T020000
TZOFFSETFROM:-0500
TZOFFSETTO:-0400
RDATE:20180311T020000
END:DAYLIGHT
END:VTIMEZONE
BEGIN:VEVENT
UID:566de64d-2eb1-4f17-9c56-cb7c3938f182
DTSTAMP:20260423T165952Z
DESCRIPTION:
DTSTART;TZID=America/New_York:20170711T150000
DTEND;TZID=America/New_York:20170711T170000
LOCATION:TARC
SUMMARY:Life Enrichment
END:VEVENT
END:VCALENDAR
