BEGIN:VCALENDAR
VERSION:2.0
PRODID:-//www.arcnbc.org//NONSGML kigkonsult.se iCalcreator 2.30.10//
CALSCALE:GREGORIAN
METHOD:PUBLISH
UID:5aa043ea-efcb-4772-b781-f7fe486b784a
X-WR-CALDESC:
X-WR-RELCALID:5dbf47a0659493531505bb9c56a21673
X-WR-TIMEZONE:America/New_York
BEGIN:VTIMEZONE
TZID:America/New_York
BEGIN:STANDARD
TZNAME:EST
DTSTART:20161106T020000
TZOFFSETFROM:-0400
TZOFFSETTO:-0500
RDATE:20171105T020000
RDATE:20181104T020000
END:STANDARD
BEGIN:DAYLIGHT
TZNAME:EDT
DTSTART:20170312T020000
TZOFFSETFROM:-0500
TZOFFSETTO:-0400
RDATE:20180311T020000
END:DAYLIGHT
END:VTIMEZONE
BEGIN:VEVENT
UID:5ab44626-9d85-47a2-96cb-18101032c16d
DTSTAMP:20260423T165923Z
DESCRIPTION:
DTSTART;TZID=America/New_York:20170711T180000
DTEND;TZID=America/New_York:20170711T200000
LOCATION:Finberg Field- Attleboro
SUMMARY:Arc Softball
END:VEVENT
END:VCALENDAR
