BEGIN:VCALENDAR
VERSION:2.0
PRODID:-//www.arcnbc.org//NONSGML kigkonsult.se iCalcreator 2.30.10//
CALSCALE:GREGORIAN
METHOD:PUBLISH
UID:41056708-c6c0-45f8-b965-2b530f8a95f2
X-WR-CALDESC:
X-WR-RELCALID:1ca79c26d443ad3ec8fdc5895903a3de
X-WR-TIMEZONE:America/New_York
BEGIN:VTIMEZONE
TZID:America/New_York
BEGIN:STANDARD
TZNAME:EST
DTSTART:20161106T020000
TZOFFSETFROM:-0400
TZOFFSETTO:-0500
RDATE:20171105T020000
RDATE:20181104T020000
END:STANDARD
BEGIN:DAYLIGHT
TZNAME:EDT
DTSTART:20170312T020000
TZOFFSETFROM:-0500
TZOFFSETTO:-0400
RDATE:20180311T020000
END:DAYLIGHT
END:VTIMEZONE
BEGIN:VEVENT
UID:a43ddced-0b5c-4295-b67f-81c883eb87a3
DTSTAMP:20260423T165359Z
DESCRIPTION:
DTSTART;TZID=America/New_York:20170711T173000
DTEND;TZID=America/New_York:20170711T183000
LOCATION:TARC
SUMMARY:Zumba
END:VEVENT
END:VCALENDAR
