BEGIN:VCALENDAR
VERSION:2.0
PRODID:-//www.arcnbc.org//NONSGML kigkonsult.se iCalcreator 2.30.10//
CALSCALE:GREGORIAN
METHOD:PUBLISH
UID:faf26123-3a88-4941-9653-e3ac4016a41d
X-WR-CALDESC:
X-WR-RELCALID:cec2d6a0b3f1bd4668da68de0996a29f
X-WR-TIMEZONE:America/New_York
BEGIN:VTIMEZONE
TZID:America/New_York
BEGIN:STANDARD
TZNAME:EST
DTSTART:20161106T020000
TZOFFSETFROM:-0400
TZOFFSETTO:-0500
RDATE:20171105T020000
RDATE:20181104T020000
END:STANDARD
BEGIN:DAYLIGHT
TZNAME:EDT
DTSTART:20170312T020000
TZOFFSETFROM:-0500
TZOFFSETTO:-0400
RDATE:20180311T020000
END:DAYLIGHT
END:VTIMEZONE
BEGIN:VEVENT
UID:f27ab2ca-a8d6-449b-b195-8647d03d1285
DTSTAMP:20260423T165248Z
DESCRIPTION:
DTSTART;TZID=America/New_York:20170712T160000
DTEND;TZID=America/New_York:20170712T220000
LOCATION:Arc Attleboro
SUMMARY:Cape Cod Baseball Game
END:VEVENT
END:VCALENDAR
