BEGIN:VCALENDAR
VERSION:2.0
PRODID:-//www.arcnbc.org//NONSGML kigkonsult.se iCalcreator 2.30.10//
CALSCALE:GREGORIAN
METHOD:PUBLISH
UID:9a4c4202-8857-4598-ba4a-8039fbe22b1e
X-WR-CALDESC:
X-WR-RELCALID:f580e71faed84cee0a7aa881b424c4d6
X-WR-TIMEZONE:America/New_York
BEGIN:VTIMEZONE
TZID:America/New_York
BEGIN:STANDARD
TZNAME:EST
DTSTART:20161106T020000
TZOFFSETFROM:-0400
TZOFFSETTO:-0500
RDATE:20171105T020000
RDATE:20181104T020000
END:STANDARD
BEGIN:DAYLIGHT
TZNAME:EDT
DTSTART:20170312T020000
TZOFFSETFROM:-0500
TZOFFSETTO:-0400
RDATE:20180311T020000
END:DAYLIGHT
END:VTIMEZONE
BEGIN:VEVENT
UID:8617911e-9624-4524-ae16-caa8fd5e2d92
DTSTAMP:20260423T183314Z
DESCRIPTION:
DTSTART;TZID=America/New_York:20170713T090000
DTEND;TZID=America/New_York:20170713T150000
LOCATION:141 Park Street
SUMMARY:First Aid/CPR
END:VEVENT
END:VCALENDAR
