BEGIN:VCALENDAR
VERSION:2.0
PRODID:-//www.arcnbc.org//NONSGML kigkonsult.se iCalcreator 2.30.10//
CALSCALE:GREGORIAN
METHOD:PUBLISH
UID:7159eeef-1683-4ba2-9954-b42d42baac41
X-WR-CALDESC:
X-WR-RELCALID:b60b9b42d25fbb58faeb45ce2e40f9cb
X-WR-TIMEZONE:America/New_York
BEGIN:VTIMEZONE
TZID:America/New_York
BEGIN:STANDARD
TZNAME:EST
DTSTART:20161106T020000
TZOFFSETFROM:-0400
TZOFFSETTO:-0500
RDATE:20171105T020000
RDATE:20181104T020000
END:STANDARD
BEGIN:DAYLIGHT
TZNAME:EDT
DTSTART:20170312T020000
TZOFFSETFROM:-0500
TZOFFSETTO:-0400
RDATE:20180311T020000
END:DAYLIGHT
END:VTIMEZONE
BEGIN:VEVENT
UID:ba2cbb0c-c85a-46ff-be56-961078928d1d
DTSTAMP:20260423T185206Z
DESCRIPTION:
DTSTART;TZID=America/New_York:20170715T123000
DTEND;TZID=America/New_York:20170715T170000
LOCATION:Arc Attleboro
SUMMARY:'Shrek' the Musical
END:VEVENT
END:VCALENDAR
