BEGIN:VCALENDAR
VERSION:2.0
PRODID:-//www.arcnbc.org//NONSGML kigkonsult.se iCalcreator 2.30.10//
CALSCALE:GREGORIAN
METHOD:PUBLISH
UID:f6e72a21-27eb-4fa7-8837-5a0e2e37fce2
X-WR-CALDESC:Arc Strong - 5K Run\, Walk & Roll\nSunday\, July 16\, 2017\nHo
 liday Inn Taunton\, 700 Myles Standish Boulevard\, Taunton MA  02780\n\nPa
 rking for Participants and Check-in are located in the large parking area 
 in the rear of the Hotel.  Follow the signs when you get close.\n\nRegistr
 ation Begins at 8:30 am\nRun\, Walk or Roll at 9:30 am\nPost Run\, Walk & 
 Roll Festivities
X-WR-RELCALID:61881e26f21d83e4fc8fbe0aeeac616c
X-WR-TIMEZONE:America/New_York
BEGIN:VTIMEZONE
TZID:America/New_York
BEGIN:STANDARD
TZNAME:EST
DTSTART:20161106T020000
TZOFFSETFROM:-0400
TZOFFSETTO:-0500
RDATE:20171105T020000
RDATE:20181104T020000
END:STANDARD
BEGIN:DAYLIGHT
TZNAME:EDT
DTSTART:20170312T020000
TZOFFSETFROM:-0500
TZOFFSETTO:-0400
RDATE:20180311T020000
END:DAYLIGHT
END:VTIMEZONE
BEGIN:VEVENT
UID:e8c7598e-f5c8-4104-b3c0-bf6540106db4
DTSTAMP:20260423T170039Z
DESCRIPTION:Arc Strong - 5K Run\, Walk & Roll\nSunday\, July 16\, 2017\nHol
 iday Inn Taunton\, 700 Myles Standish Boulevard\, Taunton MA  02780\n\nPar
 king for Participants and Check-in are located in the large parking area i
 n the rear of the Hotel.  Follow the signs when you get close.\n\nRegistra
 tion Begins at 8:30 am\nRun\, Walk or Roll at 9:30 am\nPost Run\, Walk & R
 oll Festivities
DTSTART;TZID=America/New_York:20170716T080000
DTEND;TZID=America/New_York:20170716T113000
LOCATION:Holiday Inn Taunton\, 700 Myles Standish Boulevard\, Taunton MA  0
 2780
SUMMARY:Arc Strong - 5K Run\, Walk & Roll Sunday\, July 16
END:VEVENT
END:VCALENDAR
