BEGIN:VCALENDAR
VERSION:2.0
PRODID:-//www.arcnbc.org//NONSGML kigkonsult.se iCalcreator 2.30.10//
CALSCALE:GREGORIAN
METHOD:PUBLISH
UID:4f7104d1-d862-4c9e-ae73-b199c1277123
X-WR-CALDESC:
X-WR-RELCALID:3da02ec4ce27cd3350bbfdcd64e4c898
X-WR-TIMEZONE:America/New_York
BEGIN:VTIMEZONE
TZID:America/New_York
BEGIN:STANDARD
TZNAME:EST
DTSTART:20161106T020000
TZOFFSETFROM:-0400
TZOFFSETTO:-0500
RDATE:20171105T020000
RDATE:20181104T020000
END:STANDARD
BEGIN:DAYLIGHT
TZNAME:EDT
DTSTART:20170312T020000
TZOFFSETFROM:-0500
TZOFFSETTO:-0400
RDATE:20180311T020000
END:DAYLIGHT
END:VTIMEZONE
BEGIN:VEVENT
UID:42cd788b-e9a6-4b20-9181-cf9133b667ab
DTSTAMP:20260423T165930Z
DESCRIPTION:
DTSTART;TZID=America/New_York:20170717T150000
DTEND;TZID=America/New_York:20170717T170000
LOCATION:TARC
SUMMARY:Walking Club
END:VEVENT
END:VCALENDAR
