BEGIN:VCALENDAR
VERSION:2.0
PRODID:-//www.arcnbc.org//NONSGML kigkonsult.se iCalcreator 2.30.10//
CALSCALE:GREGORIAN
METHOD:PUBLISH
UID:b9e8f38d-caf5-4d8d-98ad-f34d6dc6bb8c
X-WR-CALDESC:
X-WR-RELCALID:68150d0f54a49b64e1c1c13892d929eb
X-WR-TIMEZONE:America/New_York
BEGIN:VTIMEZONE
TZID:America/New_York
BEGIN:STANDARD
TZNAME:EST
DTSTART:20161106T020000
TZOFFSETFROM:-0400
TZOFFSETTO:-0500
RDATE:20171105T020000
RDATE:20181104T020000
END:STANDARD
BEGIN:DAYLIGHT
TZNAME:EDT
DTSTART:20170312T020000
TZOFFSETFROM:-0500
TZOFFSETTO:-0400
RDATE:20180311T020000
END:DAYLIGHT
END:VTIMEZONE
BEGIN:VEVENT
UID:cd8ed970-1afb-40c2-a64d-d43c00791936
DTSTAMP:20260423T165954Z
DESCRIPTION:
DTSTART;TZID=America/New_York:20170718T150000
DTEND;TZID=America/New_York:20170718T170000
LOCATION:TARC
SUMMARY:Life Enrichment
END:VEVENT
END:VCALENDAR
