BEGIN:VCALENDAR
VERSION:2.0
PRODID:-//www.arcnbc.org//NONSGML kigkonsult.se iCalcreator 2.30.10//
CALSCALE:GREGORIAN
METHOD:PUBLISH
UID:b376ab63-e32d-412c-83b3-2f974071e5aa
X-WR-CALDESC:
X-WR-RELCALID:51d2c1a13a93948b40d019a184f44e4a
X-WR-TIMEZONE:America/New_York
BEGIN:VTIMEZONE
TZID:America/New_York
BEGIN:STANDARD
TZNAME:EST
DTSTART:20161106T020000
TZOFFSETFROM:-0400
TZOFFSETTO:-0500
RDATE:20171105T020000
RDATE:20181104T020000
END:STANDARD
BEGIN:DAYLIGHT
TZNAME:EDT
DTSTART:20170312T020000
TZOFFSETFROM:-0500
TZOFFSETTO:-0400
RDATE:20180311T020000
END:DAYLIGHT
END:VTIMEZONE
BEGIN:VEVENT
UID:01e6b0df-77d1-45e8-980e-b4a675811674
DTSTAMP:20260423T165815Z
DESCRIPTION:
DTSTART;TZID=America/New_York:20170718T180000
DTEND;TZID=America/New_York:20170718T200000
LOCATION:Finberg Field- Attleboro
SUMMARY:Arc Softball
END:VEVENT
END:VCALENDAR
