BEGIN:VCALENDAR
VERSION:2.0
PRODID:-//www.arcnbc.org//NONSGML kigkonsult.se iCalcreator 2.30.10//
CALSCALE:GREGORIAN
METHOD:PUBLISH
UID:798f4c18-bb7a-47db-b641-4a9184ce4cfa
X-WR-CALDESC:
X-WR-RELCALID:641579a9462621e4170be5b47ccdf9dc
X-WR-TIMEZONE:America/New_York
BEGIN:VTIMEZONE
TZID:America/New_York
BEGIN:STANDARD
TZNAME:EST
DTSTART:20161106T020000
TZOFFSETFROM:-0400
TZOFFSETTO:-0500
RDATE:20171105T020000
RDATE:20181104T020000
END:STANDARD
BEGIN:DAYLIGHT
TZNAME:EDT
DTSTART:20170312T020000
TZOFFSETFROM:-0500
TZOFFSETTO:-0400
RDATE:20180311T020000
END:DAYLIGHT
END:VTIMEZONE
BEGIN:VEVENT
UID:ae672c97-94f1-47a8-9956-e4b8da27144d
DTSTAMP:20260423T165239Z
DESCRIPTION:
DTSTART;TZID=America/New_York:20170719T150000
DTEND;TZID=America/New_York:20170719T170000
LOCATION:TARC
SUMMARY:Bingo
END:VEVENT
END:VCALENDAR
