BEGIN:VCALENDAR
VERSION:2.0
PRODID:-//www.arcnbc.org//NONSGML kigkonsult.se iCalcreator 2.30.10//
CALSCALE:GREGORIAN
METHOD:PUBLISH
UID:04420fc3-7d13-4454-889b-862d41fc0a95
X-WR-CALDESC:
X-WR-RELCALID:7d11dbb09b1a7b3009b23605980d3d82
X-WR-TIMEZONE:America/New_York
BEGIN:VTIMEZONE
TZID:America/New_York
BEGIN:STANDARD
TZNAME:EST
DTSTART:20161106T020000
TZOFFSETFROM:-0400
TZOFFSETTO:-0500
RDATE:20171105T020000
RDATE:20181104T020000
END:STANDARD
BEGIN:DAYLIGHT
TZNAME:EDT
DTSTART:20170312T020000
TZOFFSETFROM:-0500
TZOFFSETTO:-0400
RDATE:20180311T020000
END:DAYLIGHT
END:VTIMEZONE
BEGIN:VEVENT
UID:b73e8b4a-ca47-4855-ac75-66f842618ab9
DTSTAMP:20260423T165236Z
DESCRIPTION:
DTSTART;TZID=America/New_York:20170719T093000
DTEND;TZID=America/New_York:20170719T163000
LOCATION:Arc Attleboro
SUMMARY:PawSox
END:VEVENT
END:VCALENDAR
