BEGIN:VCALENDAR
VERSION:2.0
PRODID:-//www.arcnbc.org//NONSGML kigkonsult.se iCalcreator 2.30.10//
CALSCALE:GREGORIAN
METHOD:PUBLISH
UID:eae07f74-cd8b-49c9-9200-fd2c497a1499
X-WR-CALDESC:
X-WR-RELCALID:6bf79c24679aacf4a0e2ab506380b6a5
X-WR-TIMEZONE:America/New_York
BEGIN:VTIMEZONE
TZID:America/New_York
BEGIN:STANDARD
TZNAME:EST
DTSTART:20161106T020000
TZOFFSETFROM:-0400
TZOFFSETTO:-0500
RDATE:20171105T020000
RDATE:20181104T020000
END:STANDARD
BEGIN:DAYLIGHT
TZNAME:EDT
DTSTART:20170312T020000
TZOFFSETFROM:-0500
TZOFFSETTO:-0400
RDATE:20180311T020000
END:DAYLIGHT
END:VTIMEZONE
BEGIN:VEVENT
UID:25f9333c-ec22-44f1-b601-7a6286eb5700
DTSTAMP:20260423T165249Z
DESCRIPTION:
DTSTART;TZID=America/New_York:20170721T190000
DTEND;TZID=America/New_York:20170721T210000
LOCATION:Norton Outdoor Center
SUMMARY:Go Night
END:VEVENT
END:VCALENDAR
