BEGIN:VCALENDAR
VERSION:2.0
PRODID:-//www.arcnbc.org//NONSGML kigkonsult.se iCalcreator 2.30.10//
CALSCALE:GREGORIAN
METHOD:PUBLISH
UID:eff535af-dcd7-4a9d-a204-6bc7bd2616b4
X-WR-CALDESC:
X-WR-RELCALID:d55474c18888ffd28086c3bc12a5159e
X-WR-TIMEZONE:America/New_York
BEGIN:VTIMEZONE
TZID:America/New_York
BEGIN:STANDARD
TZNAME:EST
DTSTART:20161106T020000
TZOFFSETFROM:-0400
TZOFFSETTO:-0500
RDATE:20171105T020000
RDATE:20181104T020000
END:STANDARD
BEGIN:DAYLIGHT
TZNAME:EDT
DTSTART:20170312T020000
TZOFFSETFROM:-0500
TZOFFSETTO:-0400
RDATE:20180311T020000
END:DAYLIGHT
END:VTIMEZONE
BEGIN:VEVENT
UID:5b21f37c-1e42-4d6e-be92-5f883c15c45a
DTSTAMP:20260423T185348Z
DESCRIPTION:
DTSTART;TZID=America/New_York:20170724T153000
DTEND;TZID=America/New_York:20170724T193000
LOCATION:Arc Attleboro
SUMMARY:Horse Therapy
END:VEVENT
END:VCALENDAR
