BEGIN:VCALENDAR
VERSION:2.0
PRODID:-//www.arcnbc.org//NONSGML kigkonsult.se iCalcreator 2.30.10//
CALSCALE:GREGORIAN
METHOD:PUBLISH
UID:0d37dd30-686e-4715-adc6-2bec1ea9ab1e
X-WR-CALDESC:
X-WR-RELCALID:4eff2224ad1b56f601401c8b560e5212
X-WR-TIMEZONE:America/New_York
BEGIN:VTIMEZONE
TZID:America/New_York
BEGIN:STANDARD
TZNAME:EST
DTSTART:20161106T020000
TZOFFSETFROM:-0400
TZOFFSETTO:-0500
RDATE:20171105T020000
RDATE:20181104T020000
END:STANDARD
BEGIN:DAYLIGHT
TZNAME:EDT
DTSTART:20170312T020000
TZOFFSETFROM:-0500
TZOFFSETTO:-0400
RDATE:20180311T020000
END:DAYLIGHT
END:VTIMEZONE
BEGIN:VEVENT
UID:95450a81-c65c-4aa5-99a1-98c36c377b2c
DTSTAMP:20260423T165814Z
DESCRIPTION:
DTSTART;TZID=America/New_York:20170725T180000
DTEND;TZID=America/New_York:20170725T200000
LOCATION:Finberg Field- Attleboro
SUMMARY:Arc Softball
END:VEVENT
END:VCALENDAR
