BEGIN:VCALENDAR
VERSION:2.0
PRODID:-//www.arcnbc.org//NONSGML kigkonsult.se iCalcreator 2.30.10//
CALSCALE:GREGORIAN
METHOD:PUBLISH
UID:8ae0137e-09a0-420b-a8b5-239333f1714d
X-WR-CALDESC:New Employee Orientation
X-WR-RELCALID:7bdde606a23daa061835ba0f0400cadb
X-WR-TIMEZONE:America/New_York
BEGIN:VTIMEZONE
TZID:America/New_York
BEGIN:STANDARD
TZNAME:EST
DTSTART:20161106T020000
TZOFFSETFROM:-0400
TZOFFSETTO:-0500
RDATE:20171105T020000
RDATE:20181104T020000
END:STANDARD
BEGIN:DAYLIGHT
TZNAME:EDT
DTSTART:20170312T020000
TZOFFSETFROM:-0500
TZOFFSETTO:-0400
RDATE:20180311T020000
END:DAYLIGHT
END:VTIMEZONE
BEGIN:VEVENT
UID:4906f6a9-dee0-49d9-971d-9cf3baeea46a
DTSTAMP:20260423T165358Z
DESCRIPTION:New Employee Orientation
DTSTART;TZID=America/New_York:20170725T100000
DTEND;TZID=America/New_York:20170725T160000
LOCATION:141 Park Street
SUMMARY:Orientation
END:VEVENT
END:VCALENDAR
