BEGIN:VCALENDAR
VERSION:2.0
PRODID:-//www.arcnbc.org//NONSGML kigkonsult.se iCalcreator 2.30.10//
CALSCALE:GREGORIAN
METHOD:PUBLISH
UID:16709d31-2be9-4f69-aa96-0bcf6d77f6d1
X-WR-CALDESC:
X-WR-RELCALID:9c4a5960d04fdb86bfc880dde5141293
X-WR-TIMEZONE:America/New_York
BEGIN:VTIMEZONE
TZID:America/New_York
BEGIN:STANDARD
TZNAME:EST
DTSTART:20161106T020000
TZOFFSETFROM:-0400
TZOFFSETTO:-0500
RDATE:20171105T020000
RDATE:20181104T020000
END:STANDARD
BEGIN:DAYLIGHT
TZNAME:EDT
DTSTART:20170312T020000
TZOFFSETFROM:-0500
TZOFFSETTO:-0400
RDATE:20180311T020000
END:DAYLIGHT
END:VTIMEZONE
BEGIN:VEVENT
UID:fca2de5e-f9a8-4810-8149-0a1723714d6b
DTSTAMP:20260423T165628Z
DESCRIPTION:
DTSTART;TZID=America/New_York:20170726T150000
DTEND;TZID=America/New_York:20170726T170000
LOCATION:TARC
SUMMARY:Arts & Crafts
END:VEVENT
END:VCALENDAR
