BEGIN:VCALENDAR
VERSION:2.0
PRODID:-//www.arcnbc.org//NONSGML kigkonsult.se iCalcreator 2.30.10//
CALSCALE:GREGORIAN
METHOD:PUBLISH
UID:cb1e74a3-7a39-4de0-b6cb-73cd2cc29497
X-WR-CALDESC:
X-WR-RELCALID:3009e7792d8147ef0b85fccf61aeca0c
X-WR-TIMEZONE:America/New_York
BEGIN:VTIMEZONE
TZID:America/New_York
BEGIN:STANDARD
TZNAME:EST
DTSTART:20161106T020000
TZOFFSETFROM:-0400
TZOFFSETTO:-0500
RDATE:20171105T020000
RDATE:20181104T020000
END:STANDARD
BEGIN:DAYLIGHT
TZNAME:EDT
DTSTART:20170312T020000
TZOFFSETFROM:-0500
TZOFFSETTO:-0400
RDATE:20180311T020000
END:DAYLIGHT
END:VTIMEZONE
BEGIN:VEVENT
UID:915f7d93-9a49-42c5-bebd-f9353ddde378
DTSTAMP:20260423T165554Z
DESCRIPTION:
DTSTART;TZID=America/New_York:20170726T170000
DTEND;TZID=America/New_York:20170726T213000
LOCATION:Arc Attleboro
SUMMARY:Dinner & Movie
END:VEVENT
END:VCALENDAR
