BEGIN:VCALENDAR
VERSION:2.0
PRODID:-//www.arcnbc.org//NONSGML kigkonsult.se iCalcreator 2.30.10//
CALSCALE:GREGORIAN
METHOD:PUBLISH
UID:0785fdc4-a975-4fc0-bc10-ac90d60b65e0
X-WR-CALDESC:
X-WR-RELCALID:8b2c79ff8a966edc96b0952e80ccd826
X-WR-TIMEZONE:America/New_York
BEGIN:VTIMEZONE
TZID:America/New_York
BEGIN:STANDARD
TZNAME:EST
DTSTART:20161106T020000
TZOFFSETFROM:-0400
TZOFFSETTO:-0500
RDATE:20171105T020000
RDATE:20181104T020000
END:STANDARD
BEGIN:DAYLIGHT
TZNAME:EDT
DTSTART:20170312T020000
TZOFFSETFROM:-0500
TZOFFSETTO:-0400
RDATE:20180311T020000
END:DAYLIGHT
END:VTIMEZONE
BEGIN:VEVENT
UID:ce2e0333-b012-4aaa-9165-9ac65f9b1c35
DTSTAMP:20260423T165349Z
DESCRIPTION:
DTSTART;TZID=America/New_York:20170727T090000
DTEND;TZID=America/New_York:20170727T153000
LOCATION:proAbility office
SUMMARY:NCI
END:VEVENT
END:VCALENDAR
