BEGIN:VCALENDAR
VERSION:2.0
PRODID:-//www.arcnbc.org//NONSGML kigkonsult.se iCalcreator 2.30.10//
CALSCALE:GREGORIAN
METHOD:PUBLISH
UID:c39bebe8-f796-4ee8-b60e-d07fdd7b5b83
X-WR-CALDESC:
X-WR-RELCALID:0badac923fa7f6e44444d88cc7bef177
X-WR-TIMEZONE:America/New_York
BEGIN:VTIMEZONE
TZID:America/New_York
BEGIN:STANDARD
TZNAME:EST
DTSTART:20161106T020000
TZOFFSETFROM:-0400
TZOFFSETTO:-0500
RDATE:20171105T020000
RDATE:20181104T020000
END:STANDARD
BEGIN:DAYLIGHT
TZNAME:EDT
DTSTART:20170312T020000
TZOFFSETFROM:-0500
TZOFFSETTO:-0400
RDATE:20180311T020000
END:DAYLIGHT
END:VTIMEZONE
BEGIN:VEVENT
UID:c24eb363-3408-4f94-8e4d-72dfc87693a4
DTSTAMP:20260423T165250Z
DESCRIPTION:
DTSTART;TZID=America/New_York:20170727T090000
DTEND;TZID=America/New_York:20170727T190000
LOCATION:Arc Attleboro
SUMMARY:Summer Tubing
END:VEVENT
END:VCALENDAR
