BEGIN:VCALENDAR
VERSION:2.0
PRODID:-//www.arcnbc.org//NONSGML kigkonsult.se iCalcreator 2.30.10//
CALSCALE:GREGORIAN
METHOD:PUBLISH
UID:26d18c77-db61-4aea-abb4-c2c6c2f2c1fa
X-WR-CALDESC:
X-WR-RELCALID:2e42549b41eaa5e2f49d640ae8a36cbf
X-WR-TIMEZONE:America/New_York
BEGIN:VTIMEZONE
TZID:America/New_York
BEGIN:STANDARD
TZNAME:EST
DTSTART:20161106T020000
TZOFFSETFROM:-0400
TZOFFSETTO:-0500
RDATE:20171105T020000
RDATE:20181104T020000
END:STANDARD
BEGIN:DAYLIGHT
TZNAME:EDT
DTSTART:20170312T020000
TZOFFSETFROM:-0500
TZOFFSETTO:-0400
RDATE:20180311T020000
END:DAYLIGHT
END:VTIMEZONE
BEGIN:VEVENT
UID:cc7d0277-ee50-435b-aac4-207f8d02acbb
DTSTAMP:20260423T165245Z
DESCRIPTION:
DTSTART;TZID=America/New_York:20170728T160000
DTEND;TZID=America/New_York:20170728T173000
LOCATION:Attleboro Arts Museum
SUMMARY:Art Class
END:VEVENT
END:VCALENDAR
