BEGIN:VCALENDAR
VERSION:2.0
PRODID:-//www.arcnbc.org//NONSGML kigkonsult.se iCalcreator 2.30.10//
CALSCALE:GREGORIAN
METHOD:PUBLISH
UID:0d39596f-9968-4cb1-b482-4ec4a10a9826
X-WR-CALDESC:
X-WR-RELCALID:ad498db884f3aa85a0eb523ca443917a
X-WR-TIMEZONE:America/New_York
BEGIN:VTIMEZONE
TZID:America/New_York
BEGIN:STANDARD
TZNAME:EST
DTSTART:20161106T020000
TZOFFSETFROM:-0400
TZOFFSETTO:-0500
RDATE:20171105T020000
RDATE:20181104T020000
END:STANDARD
BEGIN:DAYLIGHT
TZNAME:EDT
DTSTART:20170312T020000
TZOFFSETFROM:-0500
TZOFFSETTO:-0400
RDATE:20180311T020000
END:DAYLIGHT
END:VTIMEZONE
BEGIN:VEVENT
UID:2114eb9a-ff2d-42b6-8308-38148e467ec3
DTSTAMP:20260423T165931Z
DESCRIPTION:
DTSTART;TZID=America/New_York:20170731T150000
DTEND;TZID=America/New_York:20170731T170000
LOCATION:TARC
SUMMARY:Walking Club
END:VEVENT
END:VCALENDAR
