BEGIN:VCALENDAR
VERSION:2.0
PRODID:-//www.arcnbc.org//NONSGML kigkonsult.se iCalcreator 2.30.10//
CALSCALE:GREGORIAN
METHOD:PUBLISH
UID:4a5b8ae5-15d9-4099-9b14-61eb6f1d48ec
X-WR-CALDESC:
X-WR-RELCALID:f153ee734564f5a2903a445b5d16f008
X-WR-TIMEZONE:America/New_York
BEGIN:VTIMEZONE
TZID:America/New_York
BEGIN:STANDARD
TZNAME:EST
DTSTART:20161106T020000
TZOFFSETFROM:-0400
TZOFFSETTO:-0500
RDATE:20171105T020000
RDATE:20181104T020000
END:STANDARD
BEGIN:DAYLIGHT
TZNAME:EDT
DTSTART:20170312T020000
TZOFFSETFROM:-0500
TZOFFSETTO:-0400
RDATE:20180311T020000
END:DAYLIGHT
END:VTIMEZONE
BEGIN:VEVENT
UID:3b25d636-7562-4b07-8ed9-5b47e0720b25
DTSTAMP:20260423T165551Z
DESCRIPTION:
DTSTART;TZID=America/New_York:20170731T170000
DTEND;TZID=America/New_York:20170731T180000
LOCATION:Arc Attleboro
SUMMARY:Self Advocacy Group
END:VEVENT
END:VCALENDAR
