BEGIN:VCALENDAR
VERSION:2.0
PRODID:-//www.arcnbc.org//NONSGML kigkonsult.se iCalcreator 2.30.10//
CALSCALE:GREGORIAN
METHOD:PUBLISH
UID:825d1d8c-c9d2-44b6-8640-0fc0ca478025
X-WR-CALDESC:1510 South Washington Street\, North Attleboro\, Massachusetts
 \n\nJoin us on Tuesday\, August 1st to help support The Arc of Bristol Cou
 nty.  15% of your guest check will go to supporting the 2\,000 individuals
  we support.  Print out your coupon today!
X-WR-RELCALID:b2b6fc242cbbaefaa7f1d2ebedbe0aa8
X-WR-TIMEZONE:America/New_York
BEGIN:VTIMEZONE
TZID:America/New_York
BEGIN:STANDARD
TZNAME:EST
DTSTART:20161106T020000
TZOFFSETFROM:-0400
TZOFFSETTO:-0500
RDATE:20171105T020000
RDATE:20181104T020000
END:STANDARD
BEGIN:DAYLIGHT
TZNAME:EDT
DTSTART:20170312T020000
TZOFFSETFROM:-0500
TZOFFSETTO:-0400
RDATE:20180311T020000
END:DAYLIGHT
END:VTIMEZONE
BEGIN:VEVENT
UID:03b6ed0f-140e-41bc-8cfa-67603aa589c7
DTSTAMP:20260423T165628Z
DESCRIPTION:1510 South Washington Street\, North Attleboro\, Massachusetts
 \n\nJoin us on Tuesday\, August 1st to help support The Arc of Bristol Cou
 nty.  15% of your guest check will go to supporting the 2\,000 individuals
  we support.  Print out your coupon today!
DTSTART;TZID=America/New_York:20170801T150000
DTEND;TZID=America/New_York:20170801T200000
LOCATION:99 Restaruant and Pub North Attleboro
SUMMARY:Dining with the Arc
END:VEVENT
END:VCALENDAR
