BEGIN:VCALENDAR
VERSION:2.0
PRODID:-//www.arcnbc.org//NONSGML kigkonsult.se iCalcreator 2.30.10//
CALSCALE:GREGORIAN
METHOD:PUBLISH
UID:16af1c59-8d47-40f2-a8b8-1f79b8512195
X-WR-CALDESC:
X-WR-RELCALID:b00f74aa86b79d9dd0e3661f22fab033
X-WR-TIMEZONE:America/New_York
BEGIN:VTIMEZONE
TZID:America/New_York
BEGIN:STANDARD
TZNAME:EST
DTSTART:20161106T020000
TZOFFSETFROM:-0400
TZOFFSETTO:-0500
RDATE:20171105T020000
RDATE:20181104T020000
END:STANDARD
BEGIN:DAYLIGHT
TZNAME:EDT
DTSTART:20170312T020000
TZOFFSETFROM:-0500
TZOFFSETTO:-0400
RDATE:20180311T020000
END:DAYLIGHT
END:VTIMEZONE
BEGIN:VEVENT
UID:92299480-fa32-4277-a3b1-06febab524cc
DTSTAMP:20260423T165243Z
DESCRIPTION:
DTSTART;TZID=America/New_York:20170801T173000
DTEND;TZID=America/New_York:20170801T183000
LOCATION:TARC
SUMMARY:Zumba
END:VEVENT
END:VCALENDAR
