BEGIN:VCALENDAR
VERSION:2.0
PRODID:-//www.arcnbc.org//NONSGML kigkonsult.se iCalcreator 2.30.10//
CALSCALE:GREGORIAN
METHOD:PUBLISH
UID:7be01afb-a7ed-4410-a50a-c8f6c1a568d3
X-WR-CALDESC:
X-WR-RELCALID:3441b78cb3405ca7a0df12b1b1570369
X-WR-TIMEZONE:America/New_York
BEGIN:VTIMEZONE
TZID:America/New_York
BEGIN:STANDARD
TZNAME:EST
DTSTART:20161106T020000
TZOFFSETFROM:-0400
TZOFFSETTO:-0500
RDATE:20171105T020000
RDATE:20181104T020000
END:STANDARD
BEGIN:DAYLIGHT
TZNAME:EDT
DTSTART:20170312T020000
TZOFFSETFROM:-0500
TZOFFSETTO:-0400
RDATE:20180311T020000
END:DAYLIGHT
END:VTIMEZONE
BEGIN:VEVENT
UID:262045fb-3194-450a-b0f8-91db05fd32a4
DTSTAMP:20260423T165243Z
DESCRIPTION:
DTSTART;TZID=America/New_York:20170802T150000
DTEND;TZID=America/New_York:20170802T170000
LOCATION:TARC
SUMMARY:Bingo
END:VEVENT
END:VCALENDAR
