BEGIN:VCALENDAR
VERSION:2.0
PRODID:-//www.arcnbc.org//NONSGML kigkonsult.se iCalcreator 2.30.10//
CALSCALE:GREGORIAN
METHOD:PUBLISH
UID:655e8a25-7ebf-4bd1-8149-8da48c93df3c
X-WR-CALDESC:
X-WR-RELCALID:ab727469b61f61d442f559b1adc25a4c
X-WR-TIMEZONE:America/New_York
BEGIN:VTIMEZONE
TZID:America/New_York
BEGIN:STANDARD
TZNAME:EST
DTSTART:20161106T020000
TZOFFSETFROM:-0400
TZOFFSETTO:-0500
RDATE:20171105T020000
RDATE:20181104T020000
END:STANDARD
BEGIN:DAYLIGHT
TZNAME:EDT
DTSTART:20170312T020000
TZOFFSETFROM:-0500
TZOFFSETTO:-0400
RDATE:20180311T020000
END:DAYLIGHT
END:VTIMEZONE
BEGIN:VEVENT
UID:8faa57ed-474e-4963-be2b-5512c2294510
DTSTAMP:20260423T170041Z
DESCRIPTION:
DTSTART;TZID=America/New_York:20170803T120000
DTEND;TZID=America/New_York:20170803T130000
LOCATION:Arc Attleboro
SUMMARY:'Smokey Joe's Cafe' Show
END:VEVENT
END:VCALENDAR
