BEGIN:VCALENDAR
VERSION:2.0
PRODID:-//www.arcnbc.org//NONSGML kigkonsult.se iCalcreator 2.30.10//
CALSCALE:GREGORIAN
METHOD:PUBLISH
UID:65da1e2b-d931-415e-bd22-9e89b55c7178
X-WR-CALDESC:
X-WR-RELCALID:5023db4f5fb852ff2e2f2180687954a6
X-WR-TIMEZONE:America/New_York
BEGIN:VTIMEZONE
TZID:America/New_York
BEGIN:STANDARD
TZNAME:EST
DTSTART:20161106T020000
TZOFFSETFROM:-0400
TZOFFSETTO:-0500
RDATE:20171105T020000
RDATE:20181104T020000
END:STANDARD
BEGIN:DAYLIGHT
TZNAME:EDT
DTSTART:20170312T020000
TZOFFSETFROM:-0500
TZOFFSETTO:-0400
RDATE:20180311T020000
END:DAYLIGHT
END:VTIMEZONE
BEGIN:VEVENT
UID:a381ebc3-b2eb-4cfc-8ac1-616b00afcc33
DTSTAMP:20260423T165550Z
DESCRIPTION:
DTSTART;TZID=America/New_York:20170804T163000
DTEND;TZID=America/New_York:20170804T230000
LOCATION:Arc Attleboro
SUMMARY:Big Time Wrestling
END:VEVENT
END:VCALENDAR
