BEGIN:VCALENDAR
VERSION:2.0
PRODID:-//www.arcnbc.org//NONSGML kigkonsult.se iCalcreator 2.30.10//
CALSCALE:GREGORIAN
METHOD:PUBLISH
UID:1468fc2a-63fa-45b8-8b1d-3f296ec39c0c
X-WR-CALDESC:
X-WR-RELCALID:1cf947a4081bdecec27446d26852b264
X-WR-TIMEZONE:America/New_York
BEGIN:VTIMEZONE
TZID:America/New_York
BEGIN:STANDARD
TZNAME:EST
DTSTART:20161106T020000
TZOFFSETFROM:-0400
TZOFFSETTO:-0500
RDATE:20171105T020000
RDATE:20181104T020000
END:STANDARD
BEGIN:DAYLIGHT
TZNAME:EDT
DTSTART:20170312T020000
TZOFFSETFROM:-0500
TZOFFSETTO:-0400
RDATE:20180311T020000
END:DAYLIGHT
END:VTIMEZONE
BEGIN:VEVENT
UID:e45c98da-cf11-4838-bbf4-3e2607811bdd
DTSTAMP:20260423T165638Z
DESCRIPTION:
DTSTART;TZID=America/New_York:20170811T160000
DTEND;TZID=America/New_York:20170811T200000
LOCATION:Arc Attleboro
SUMMARY:Ice Cream Social
END:VEVENT
END:VCALENDAR
