BEGIN:VCALENDAR
VERSION:2.0
PRODID:-//www.arcnbc.org//NONSGML kigkonsult.se iCalcreator 2.30.10//
CALSCALE:GREGORIAN
METHOD:PUBLISH
UID:4da11b16-142e-43fe-8e3b-371dfdeffa31
X-WR-CALDESC:
X-WR-RELCALID:3a898aec8504888bdd855f081ce54170
X-WR-TIMEZONE:America/New_York
BEGIN:VTIMEZONE
TZID:America/New_York
BEGIN:STANDARD
TZNAME:EST
DTSTART:20161106T020000
TZOFFSETFROM:-0400
TZOFFSETTO:-0500
RDATE:20171105T020000
RDATE:20181104T020000
END:STANDARD
BEGIN:DAYLIGHT
TZNAME:EDT
DTSTART:20170312T020000
TZOFFSETFROM:-0500
TZOFFSETTO:-0400
RDATE:20180311T020000
END:DAYLIGHT
END:VTIMEZONE
BEGIN:VEVENT
UID:64b54a7c-89ef-4c96-a34d-d8b86e662822
DTSTAMP:20260423T165629Z
DESCRIPTION:
DTSTART;TZID=America/New_York:20170812T120000
DTEND;TZID=America/New_York:20170812T150000
LOCATION:Mansfield Ave. Norton
SUMMARY:Val Cookout
END:VEVENT
END:VCALENDAR
