BEGIN:VCALENDAR
VERSION:2.0
PRODID:-//www.arcnbc.org//NONSGML kigkonsult.se iCalcreator 2.30.10//
CALSCALE:GREGORIAN
METHOD:PUBLISH
UID:8f1f9a7a-dd5b-4d4f-9492-2453db7f4eb9
X-WR-CALDESC:New Employee Orientation
X-WR-RELCALID:461c67014b9794d6e8f76819937c31c0
X-WR-TIMEZONE:America/New_York
BEGIN:VTIMEZONE
TZID:America/New_York
BEGIN:STANDARD
TZNAME:EST
DTSTART:20161106T020000
TZOFFSETFROM:-0400
TZOFFSETTO:-0500
RDATE:20171105T020000
RDATE:20181104T020000
END:STANDARD
BEGIN:DAYLIGHT
TZNAME:EDT
DTSTART:20170312T020000
TZOFFSETFROM:-0500
TZOFFSETTO:-0400
RDATE:20180311T020000
END:DAYLIGHT
END:VTIMEZONE
BEGIN:VEVENT
UID:0cae200a-1246-4094-b025-3fa09c44f481
DTSTAMP:20260423T165346Z
DESCRIPTION:New Employee Orientation
DTSTART;TZID=America/New_York:20170814T100000
DTEND;TZID=America/New_York:20170814T160000
LOCATION:141 Park Street
SUMMARY:Orientation
END:VEVENT
END:VCALENDAR
