BEGIN:VCALENDAR
VERSION:2.0
PRODID:-//www.arcnbc.org//NONSGML kigkonsult.se iCalcreator 2.30.10//
CALSCALE:GREGORIAN
METHOD:PUBLISH
UID:ba44120e-f4fb-44e5-8aef-b0b2b813faf3
X-WR-CALDESC:
X-WR-RELCALID:e9d3b2c7aae8e435299940a597dd1aa8
X-WR-TIMEZONE:America/New_York
BEGIN:VTIMEZONE
TZID:America/New_York
BEGIN:STANDARD
TZNAME:EST
DTSTART:20161106T020000
TZOFFSETFROM:-0400
TZOFFSETTO:-0500
RDATE:20171105T020000
RDATE:20181104T020000
END:STANDARD
BEGIN:DAYLIGHT
TZNAME:EDT
DTSTART:20170312T020000
TZOFFSETFROM:-0500
TZOFFSETTO:-0400
RDATE:20180311T020000
END:DAYLIGHT
END:VTIMEZONE
BEGIN:VEVENT
UID:a9857274-7620-4ca2-bd8e-c90fe2ba30d9
DTSTAMP:20260423T165509Z
DESCRIPTION:
DTSTART;TZID=America/New_York:20170814T150000
DTEND;TZID=America/New_York:20170814T200000
LOCATION:Arc Attleboro
SUMMARY:Water Wizz
END:VEVENT
END:VCALENDAR
