BEGIN:VCALENDAR
VERSION:2.0
PRODID:-//www.arcnbc.org//NONSGML kigkonsult.se iCalcreator 2.30.10//
CALSCALE:GREGORIAN
METHOD:PUBLISH
UID:db1042cc-4cd6-42c7-b76b-b6a8cfc8d387
X-WR-CALDESC:
X-WR-RELCALID:76068acb3b526707d6f410401ebbd058
X-WR-TIMEZONE:America/New_York
BEGIN:VTIMEZONE
TZID:America/New_York
BEGIN:STANDARD
TZNAME:EST
DTSTART:20161106T020000
TZOFFSETFROM:-0400
TZOFFSETTO:-0500
RDATE:20171105T020000
RDATE:20181104T020000
END:STANDARD
BEGIN:DAYLIGHT
TZNAME:EDT
DTSTART:20170312T020000
TZOFFSETFROM:-0500
TZOFFSETTO:-0400
RDATE:20180311T020000
END:DAYLIGHT
END:VTIMEZONE
BEGIN:VEVENT
UID:6b5fc1cb-69eb-4252-a227-ccf13c1da881
DTSTAMP:20260423T165346Z
DESCRIPTION:
DTSTART;TZID=America/New_York:20170815T173000
DTEND;TZID=America/New_York:20170815T183000
LOCATION:TARC
SUMMARY:Zumba
END:VEVENT
END:VCALENDAR
