BEGIN:VCALENDAR
VERSION:2.0
PRODID:-//www.arcnbc.org//NONSGML kigkonsult.se iCalcreator 2.30.10//
CALSCALE:GREGORIAN
METHOD:PUBLISH
UID:88a0e0c5-801d-4b70-8d6a-67020e92df4b
X-WR-CALDESC:
X-WR-RELCALID:deaf880597e9137fce0721f1384b1e74
X-WR-TIMEZONE:America/New_York
BEGIN:VTIMEZONE
TZID:America/New_York
BEGIN:STANDARD
TZNAME:EST
DTSTART:20161106T020000
TZOFFSETFROM:-0400
TZOFFSETTO:-0500
RDATE:20171105T020000
RDATE:20181104T020000
END:STANDARD
BEGIN:DAYLIGHT
TZNAME:EDT
DTSTART:20170312T020000
TZOFFSETFROM:-0500
TZOFFSETTO:-0400
RDATE:20180311T020000
END:DAYLIGHT
END:VTIMEZONE
BEGIN:VEVENT
UID:8cb32c8c-1c2f-427a-9441-0cb399d8af9d
DTSTAMP:20260423T165637Z
DESCRIPTION:
DTSTART;TZID=America/New_York:20170816T160000
DTEND;TZID=America/New_York:20170816T190000
LOCATION:Arc Attleboro/ East Taunton Kenpo Karate
SUMMARY:Karate Class
END:VEVENT
END:VCALENDAR
