BEGIN:VCALENDAR
VERSION:2.0
PRODID:-//www.arcnbc.org//NONSGML kigkonsult.se iCalcreator 2.30.10//
CALSCALE:GREGORIAN
METHOD:PUBLISH
UID:9121dc41-97ed-48de-bf4b-19a39bfe6c06
X-WR-CALDESC:Non- Violent Crisis Intervention (NCI)
X-WR-RELCALID:52c111cca2962e802de2e81f203863f0
X-WR-TIMEZONE:America/New_York
BEGIN:VTIMEZONE
TZID:America/New_York
BEGIN:STANDARD
TZNAME:EST
DTSTART:20161106T020000
TZOFFSETFROM:-0400
TZOFFSETTO:-0500
RDATE:20171105T020000
RDATE:20181104T020000
END:STANDARD
BEGIN:DAYLIGHT
TZNAME:EDT
DTSTART:20170312T020000
TZOFFSETFROM:-0500
TZOFFSETTO:-0400
RDATE:20180311T020000
END:DAYLIGHT
END:VTIMEZONE
BEGIN:VEVENT
UID:8875a191-971a-4506-9c9e-4d2b129cbd92
DTSTAMP:20260423T165242Z
DESCRIPTION:Non- Violent Crisis Intervention (NCI)
DTSTART;TZID=America/New_York:20170816T093000
DTEND;TZID=America/New_York:20170816T153000
LOCATION:141 Park Street
SUMMARY:NCI
END:VEVENT
END:VCALENDAR
