BEGIN:VCALENDAR
VERSION:2.0
PRODID:-//www.arcnbc.org//NONSGML kigkonsult.se iCalcreator 2.30.10//
CALSCALE:GREGORIAN
METHOD:PUBLISH
UID:f75772a1-b0f7-40c9-80f3-7bda54178dfd
X-WR-CALDESC:
X-WR-RELCALID:0415676c1fb683e25c76dbb7e8a12ffd
X-WR-TIMEZONE:America/New_York
BEGIN:VTIMEZONE
TZID:America/New_York
BEGIN:STANDARD
TZNAME:EST
DTSTART:20161106T020000
TZOFFSETFROM:-0400
TZOFFSETTO:-0500
RDATE:20171105T020000
RDATE:20181104T020000
END:STANDARD
BEGIN:DAYLIGHT
TZNAME:EDT
DTSTART:20170312T020000
TZOFFSETFROM:-0500
TZOFFSETTO:-0400
RDATE:20180311T020000
END:DAYLIGHT
END:VTIMEZONE
BEGIN:VEVENT
UID:3b7b7cf9-38a7-495a-a606-210630c14cb0
DTSTAMP:20260423T165403Z
DESCRIPTION:
DTSTART;TZID=America/New_York:20170817T163000
DTEND;TZID=America/New_York:20170817T200000
LOCATION:Arc Attleboro
SUMMARY:Auto Show
END:VEVENT
END:VCALENDAR
