BEGIN:VCALENDAR
VERSION:2.0
PRODID:-//www.arcnbc.org//NONSGML kigkonsult.se iCalcreator 2.30.10//
CALSCALE:GREGORIAN
METHOD:PUBLISH
UID:a740eefc-e086-4f73-9060-a468d4358102
X-WR-CALDESC:
X-WR-RELCALID:c3dadcfcdc325efa3e01f664c1c1c99c
X-WR-TIMEZONE:America/New_York
BEGIN:VTIMEZONE
TZID:America/New_York
BEGIN:STANDARD
TZNAME:EST
DTSTART:20161106T020000
TZOFFSETFROM:-0400
TZOFFSETTO:-0500
RDATE:20171105T020000
RDATE:20181104T020000
END:STANDARD
BEGIN:DAYLIGHT
TZNAME:EDT
DTSTART:20170312T020000
TZOFFSETFROM:-0500
TZOFFSETTO:-0400
RDATE:20180311T020000
END:DAYLIGHT
END:VTIMEZONE
BEGIN:VEVENT
UID:bbcce903-3565-48f3-9e26-6ecf903de825
DTSTAMP:20260423T165247Z
DESCRIPTION:
DTSTART;TZID=America/New_York:20170818T160000
DTEND;TZID=America/New_York:20170818T173000
LOCATION:Attleboro Arts Museum
SUMMARY:Art Class
END:VEVENT
END:VCALENDAR
