BEGIN:VCALENDAR
VERSION:2.0
PRODID:-//www.arcnbc.org//NONSGML kigkonsult.se iCalcreator 2.30.10//
CALSCALE:GREGORIAN
METHOD:PUBLISH
UID:3e9c55d6-bb8e-4983-9331-f1ef4892856e
X-WR-CALDESC:
X-WR-RELCALID:9110529b16d32fa4cabefb57017af37a
X-WR-TIMEZONE:America/New_York
BEGIN:VTIMEZONE
TZID:America/New_York
BEGIN:STANDARD
TZNAME:EST
DTSTART:20161106T020000
TZOFFSETFROM:-0400
TZOFFSETTO:-0500
RDATE:20171105T020000
RDATE:20181104T020000
END:STANDARD
BEGIN:DAYLIGHT
TZNAME:EDT
DTSTART:20170312T020000
TZOFFSETFROM:-0500
TZOFFSETTO:-0400
RDATE:20180311T020000
END:DAYLIGHT
END:VTIMEZONE
BEGIN:VEVENT
UID:d28a38df-4412-4a4f-817d-e6ef970b4209
DTSTAMP:20260423T165346Z
DESCRIPTION:
DTSTART;TZID=America/New_York:20170818T190000
DTEND;TZID=America/New_York:20170818T210000
LOCATION:Attleboro YMCA- Pleasant St. Branch
SUMMARY:GO Night
END:VEVENT
END:VCALENDAR
