BEGIN:VCALENDAR
VERSION:2.0
PRODID:-//www.arcnbc.org//NONSGML kigkonsult.se iCalcreator 2.30.10//
CALSCALE:GREGORIAN
METHOD:PUBLISH
UID:d2057584-feae-4359-a0ca-9b0f4488d345
X-WR-CALDESC:
X-WR-RELCALID:aa348cf80ff779b38d5b3c84b81c3e80
X-WR-TIMEZONE:America/New_York
BEGIN:VTIMEZONE
TZID:America/New_York
BEGIN:STANDARD
TZNAME:EST
DTSTART:20161106T020000
TZOFFSETFROM:-0400
TZOFFSETTO:-0500
RDATE:20171105T020000
RDATE:20181104T020000
END:STANDARD
BEGIN:DAYLIGHT
TZNAME:EDT
DTSTART:20170312T020000
TZOFFSETFROM:-0500
TZOFFSETTO:-0400
RDATE:20180311T020000
END:DAYLIGHT
END:VTIMEZONE
BEGIN:VEVENT
UID:52183764-69a1-4fcc-895e-b276f96fc745
DTSTAMP:20260423T165551Z
DESCRIPTION:
DTSTART;TZID=America/New_York:20170819T093000
DTEND;TZID=America/New_York:20170819T180000
LOCATION:Arc Attleboro
SUMMARY:Washington County Fair
END:VEVENT
END:VCALENDAR
